BEGIN:VCALENDAR
VERSION:2.0
PRODID:-//The Summit Is Optional - ECPv6.15.18//NONSGML v1.0//EN
CALSCALE:GREGORIAN
METHOD:PUBLISH
X-ORIGINAL-URL:https://thesummitisoptional.com
X-WR-CALDESC:Events for The Summit Is Optional
REFRESH-INTERVAL;VALUE=DURATION:PT1H
X-Robots-Tag:noindex
X-PUBLISHED-TTL:PT1H
BEGIN:VTIMEZONE
TZID:Europe/London
BEGIN:DAYLIGHT
TZOFFSETFROM:+0000
TZOFFSETTO:+0100
TZNAME:BST
DTSTART:20240331T010000
END:DAYLIGHT
BEGIN:STANDARD
TZOFFSETFROM:+0100
TZOFFSETTO:+0000
TZNAME:GMT
DTSTART:20241027T010000
END:STANDARD
BEGIN:DAYLIGHT
TZOFFSETFROM:+0000
TZOFFSETTO:+0100
TZNAME:BST
DTSTART:20250330T010000
END:DAYLIGHT
BEGIN:STANDARD
TZOFFSETFROM:+0100
TZOFFSETTO:+0000
TZNAME:GMT
DTSTART:20251026T010000
END:STANDARD
BEGIN:DAYLIGHT
TZOFFSETFROM:+0000
TZOFFSETTO:+0100
TZNAME:BST
DTSTART:20260329T010000
END:DAYLIGHT
BEGIN:STANDARD
TZOFFSETFROM:+0100
TZOFFSETTO:+0000
TZNAME:GMT
DTSTART:20261025T010000
END:STANDARD
BEGIN:DAYLIGHT
TZOFFSETFROM:+0000
TZOFFSETTO:+0100
TZNAME:BST
DTSTART:20270328T010000
END:DAYLIGHT
BEGIN:STANDARD
TZOFFSETFROM:+0100
TZOFFSETTO:+0000
TZNAME:GMT
DTSTART:20271031T010000
END:STANDARD
END:VTIMEZONE
BEGIN:VEVENT
DTSTART;TZID=Europe/London:20250531T080000
DTEND;TZID=Europe/London:20250601T170000
DTSTAMP:20260422T213246
CREATED:20250403T133533Z
LAST-MODIFIED:20250408T094352Z
UID:10001025-1748678400-1748797200@thesummitisoptional.com
SUMMARY:Essential Mountain Safety Course - Open Course
DESCRIPTION:Everyone is heading for the hills and mountains these days\, which is great. But a ‘National Park’ with mountains isn’t the same as a walk in the local park. That’s all too evident from the number and nature of Mountain rescue call-outs – including fatalities. \nDon’t get caught out because you simply didn’t know or understand what you were getting yourself and your friends/family into. \nThis spring I’m giving priority to a number of weekend Essential Mountain Safety Courses. These courses will take place in the Lake District and Eryri (Snowdonia). Each mountain safety course is two-days long and will include a guided mountain walk packed with learning to make you independent  – but safe. \nWhat does the course cover?\n\nPlanning a day’s route in the mountains\nAccessing weather forecasts and understanding the effects of the weather\nClothing and equipment\nNavigation using apps – pros\, cons\, and understanding what you are getting from various apps\nNavigation using map and compass\nNavigation using dedicated GPS unit\nMovement on different terrain\nAssessing risks and making decisions\nEmergency procedures and emergency equipment\n\nWhat does it cost? \nThe cost is only £116 per person for the two days\, based on a full course of six people (Ratio 1:6 instructor:student).
URL:https://thesummitisoptional.com/event/essential-mountain-safety-course-4/
LOCATION:Snowdonia\, Capel Curig\, United Kingdom
CATEGORIES:Summer
ATTACH;FMTTYPE=image/jpeg:https://thesummitisoptional.com/wp-content/uploads/The-Pinnacles-on-Bristly-Ridge.jpeg
END:VEVENT
BEGIN:VEVENT
DTSTART;TZID=Europe/London:20250531T090000
DTEND;TZID=Europe/London:20250601T170000
DTSTAMP:20260422T213246
CREATED:20241208T164534Z
LAST-MODIFIED:20250223T164125Z
UID:10001006-1748682000-1748797200@thesummitisoptional.com
SUMMARY:'Classic Rock' Climbing Course (Lake District) - Open course
DESCRIPTION:‘Open’ course available for individual booking. \n£270 per person for two days\, based on a 1:2 ratio with two people attending.
URL:https://thesummitisoptional.com/event/classic-rock-climbing-course-lake-district-open-course/
LOCATION:Lake District\, Cumbria\, United Kingdom
CATEGORIES:Summer
ATTACH;FMTTYPE=image/jpeg:https://thesummitisoptional.com/wp-content/uploads/IMG_3596-scaled.jpeg
END:VEVENT
BEGIN:VEVENT
DTSTART;TZID=Europe/London:20250606T090000
DTEND;TZID=Europe/London:20250606T170000
DTSTAMP:20260422T213246
CREATED:20241211T095614Z
LAST-MODIFIED:20241211T095614Z
UID:10001012-1749200400-1749229200@thesummitisoptional.com
SUMMARY:Guided scramble - Tryfan North Ridge (Private Booking)
DESCRIPTION:Scramble the North Ridge of Tryfan \n \n 
URL:https://thesummitisoptional.com/event/guided-scramble-tryfan-north-ridge-private-booking-2/
LOCATION:Snowdonia\, Capel Curig\, United Kingdom
CATEGORIES:Summer
ATTACH;FMTTYPE=image/jpeg:https://thesummitisoptional.com/wp-content/uploads/Enjoying-the-view-from-the-North-Tower-North-Ridge-of-Tryfan.jpeg
END:VEVENT
BEGIN:VEVENT
DTSTART;TZID=Europe/London:20250607T090000
DTEND;TZID=Europe/London:20250609T170000
DTSTAMP:20260422T213246
CREATED:20241208T163826Z
LAST-MODIFIED:20250223T164257Z
UID:10001002-1749286800-1749488400@thesummitisoptional.com
SUMMARY:Introduction to Multi-Pitch Rock Climbing and Scrambling (Eryri/Snowdonia) (Private Booking)
DESCRIPTION:
URL:https://thesummitisoptional.com/event/classic-rock-climbing-course-eryri-snowdonia-open-course/
LOCATION:Snowdonia\, Capel Curig\, United Kingdom
CATEGORIES:Summer
ATTACH;FMTTYPE=image/jpeg:https://thesummitisoptional.com/wp-content/uploads/Twin-Cracks-Hope-scaled.jpeg
END:VEVENT
BEGIN:VEVENT
DTSTART;TZID=Europe/London:20250809T080000
DTEND;TZID=Europe/London:20250810T170000
DTSTAMP:20260422T213246
CREATED:20241208T165329Z
LAST-MODIFIED:20250719T161438Z
UID:10001010-1754726400-1754845200@thesummitisoptional.com
SUMMARY:Classic G2-G3 Scrambling Course (Eryri/Snowdonia) - Open course
DESCRIPTION:‘Open’ course available for individual booking. \n£240 per person for two days\, based on a 1:2 ratio with two people attending.
URL:https://thesummitisoptional.com/event/classic-g2-g3-scrambling-course-eryri-snowdonia-open-course-3/
LOCATION:Lake District\, Cumbria\, United Kingdom
CATEGORIES:Summer
ATTACH;FMTTYPE=image/jpeg:https://thesummitisoptional.com/wp-content/uploads/Scrambling-G2-3-10_8.jpeg
END:VEVENT
BEGIN:VEVENT
DTSTART;TZID=Europe/London:20250823T090000
DTEND;TZID=Europe/London:20250824T170000
DTSTAMP:20260422T213246
CREATED:20241208T164128Z
LAST-MODIFIED:20250719T161610Z
UID:10001005-1755939600-1756054800@thesummitisoptional.com
SUMMARY:'Classic Rock' Climbing Course (Eryri/Snowdonia) - Open course
DESCRIPTION:‘Open’ course available for individual booking. \n£240 per person for two days\, based on a 1:2 ratio with two people attending.
URL:https://thesummitisoptional.com/event/classic-rock-climbing-course-eryri-snowdonia-open-course-3/
LOCATION:Snowdonia\, Capel Curig\, United Kingdom
CATEGORIES:Summer
ATTACH;FMTTYPE=image/jpeg:https://thesummitisoptional.com/wp-content/uploads/Twin-Cracks-Hope-scaled.jpeg
END:VEVENT
BEGIN:VEVENT
DTSTART;TZID=Europe/London:20250927T080000
DTEND;TZID=Europe/London:20250928T170000
DTSTAMP:20260422T213246
CREATED:20241208T165426Z
LAST-MODIFIED:20250719T161659Z
UID:10001011-1758960000-1759078800@thesummitisoptional.com
SUMMARY:Classic G2-G3 Scrambling Course (Eryri/Snowdonia) - Open course
DESCRIPTION:‘Open’ course available for individual booking. \n£240 per person for two days\, based on a 1:2 ratio with two people attending.
URL:https://thesummitisoptional.com/event/classic-g2-g3-scrambling-course-eryri-snowdonia-open-course-4/
LOCATION:Lake District\, Cumbria\, United Kingdom
CATEGORIES:Summer
ATTACH;FMTTYPE=image/jpeg:https://thesummitisoptional.com/wp-content/uploads/Scrambling-G2-3-10_8.jpeg
END:VEVENT
BEGIN:VEVENT
DTSTART;TZID=Europe/London:20260112T080000
DTEND;TZID=Europe/London:20260113T170000
DTSTAMP:20260422T213246
CREATED:20251126T094535Z
LAST-MODIFIED:20251126T094535Z
UID:10001039-1768204800-1768323600@thesummitisoptional.com
SUMMARY:Guided Hike & Mountain Skills Course (Private Booking)
DESCRIPTION:
URL:https://thesummitisoptional.com/event/guided-hike-mountain-skills-course-private-booking/
LOCATION:Lake District\, Cumbria\, United Kingdom
CATEGORIES:Summer,Winter
ATTACH;FMTTYPE=image/jpeg:https://thesummitisoptional.com/wp-content/uploads/IMG_1071-e1593178350901.jpg
END:VEVENT
BEGIN:VEVENT
DTSTART;TZID=Europe/London:20260418T080000
DTEND;TZID=Europe/London:20260419T170000
DTSTAMP:20260422T213246
CREATED:20260207T104012Z
LAST-MODIFIED:20260207T104012Z
UID:10001043-1776499200-1776618000@thesummitisoptional.com
SUMMARY:Self-Rescue/Problem-Solving Course (Private Booking)
DESCRIPTION:
URL:https://thesummitisoptional.com/event/self-rescue-problem-solving-course-private-booking/
LOCATION:Yorkshire Dales\, Horton in Ribblesdale
CATEGORIES:Summer
ATTACH;FMTTYPE=image/jpeg:https://thesummitisoptional.com/wp-content/uploads/Rock-Climbing-Self-rescue-e1540380459554.jpg
END:VEVENT
BEGIN:VEVENT
DTSTART;TZID=Europe/London:20260425T080000
DTEND;TZID=Europe/London:20260427T170000
DTSTAMP:20260422T213246
CREATED:20260207T103702Z
LAST-MODIFIED:20260207T103702Z
UID:10001042-1777104000-1777309200@thesummitisoptional.com
SUMMARY:Learn-to-Lead Course (Private Booking)
DESCRIPTION:
URL:https://thesummitisoptional.com/event/learn-to-lead-course-private-booking/
LOCATION:Snowdonia\, Capel Curig\, United Kingdom
CATEGORIES:Summer
ATTACH;FMTTYPE=image/jpeg:https://thesummitisoptional.com/wp-content/uploads/Flying-Buttress-the-groove-and-flake.jpeg
END:VEVENT
BEGIN:VEVENT
DTSTART;TZID=Europe/London:20260619T080000
DTEND;TZID=Europe/London:20260619T170000
DTSTAMP:20260422T213246
CREATED:20260111T094746Z
LAST-MODIFIED:20260111T094746Z
UID:10001041-1781856000-1781888400@thesummitisoptional.com
SUMMARY:Yr Wyddfa via Crib Goch (Private Booking)
DESCRIPTION:
URL:https://thesummitisoptional.com/event/yr-wyddfa-via-crib-goch-private-booking/
LOCATION:Snowdonia\, Capel Curig\, United Kingdom
CATEGORIES:Summer
ATTACH;FMTTYPE=image/jpeg:https://thesummitisoptional.com/wp-content/uploads/IMG_3589-scaled.jpeg
END:VEVENT
END:VCALENDAR