BEGIN:VCALENDAR
VERSION:2.0
PRODID:-//The Summit Is Optional - ECPv6.15.18//NONSGML v1.0//EN
CALSCALE:GREGORIAN
METHOD:PUBLISH
X-WR-CALNAME:The Summit Is Optional
X-ORIGINAL-URL:https://thesummitisoptional.com
X-WR-CALDESC:Events for The Summit Is Optional
REFRESH-INTERVAL;VALUE=DURATION:PT1H
X-Robots-Tag:noindex
X-PUBLISHED-TTL:PT1H
BEGIN:VTIMEZONE
TZID:Europe/London
BEGIN:DAYLIGHT
TZOFFSETFROM:+0000
TZOFFSETTO:+0100
TZNAME:BST
DTSTART:20250330T010000
END:DAYLIGHT
BEGIN:STANDARD
TZOFFSETFROM:+0100
TZOFFSETTO:+0000
TZNAME:GMT
DTSTART:20251026T010000
END:STANDARD
BEGIN:DAYLIGHT
TZOFFSETFROM:+0000
TZOFFSETTO:+0100
TZNAME:BST
DTSTART:20260329T010000
END:DAYLIGHT
BEGIN:STANDARD
TZOFFSETFROM:+0100
TZOFFSETTO:+0000
TZNAME:GMT
DTSTART:20261025T010000
END:STANDARD
BEGIN:DAYLIGHT
TZOFFSETFROM:+0000
TZOFFSETTO:+0100
TZNAME:BST
DTSTART:20270328T010000
END:DAYLIGHT
BEGIN:STANDARD
TZOFFSETFROM:+0100
TZOFFSETTO:+0000
TZNAME:GMT
DTSTART:20271031T010000
END:STANDARD
END:VTIMEZONE
BEGIN:VEVENT
DTSTART;TZID=Europe/London:20260112T080000
DTEND;TZID=Europe/London:20260113T170000
DTSTAMP:20260422T020159
CREATED:20251126T094535Z
LAST-MODIFIED:20251126T094535Z
UID:10001039-1768204800-1768323600@thesummitisoptional.com
SUMMARY:Guided Hike & Mountain Skills Course (Private Booking)
DESCRIPTION:
URL:https://thesummitisoptional.com/event/guided-hike-mountain-skills-course-private-booking/
LOCATION:Lake District\, Cumbria\, United Kingdom
CATEGORIES:Summer,Winter
ATTACH;FMTTYPE=image/jpeg:https://thesummitisoptional.com/wp-content/uploads/IMG_1071-e1593178350901.jpg
END:VEVENT
BEGIN:VEVENT
DTSTART;TZID=Europe/London:20260124T080000
DTEND;TZID=Europe/London:20260125T170000
DTSTAMP:20260422T020159
CREATED:20251126T093906Z
LAST-MODIFIED:20251126T093906Z
UID:10001038-1769241600-1769360400@thesummitisoptional.com
SUMMARY:Winter Skills Course (Private Booking)
DESCRIPTION:
URL:https://thesummitisoptional.com/event/winter-skills-course-private-booking-6/
LOCATION:Glencoe\, Glencoe\, PH49 4HP\, United Kingdom
CATEGORIES:Winter
ATTACH;FMTTYPE=image/jpeg:https://thesummitisoptional.com/wp-content/uploads/IMG_4920-scaled.jpeg
END:VEVENT
BEGIN:VEVENT
DTSTART;TZID=Europe/London:20260202T080000
DTEND;TZID=Europe/London:20260206T170000
DTSTAMP:20260422T020159
CREATED:20251126T093144Z
LAST-MODIFIED:20251126T093145Z
UID:10001032-1770019200-1770397200@thesummitisoptional.com
SUMMARY:Scottish Winter Mountaineering (Private Booking)
DESCRIPTION:
URL:https://thesummitisoptional.com/event/scottish-winter-mountaineering-private-booking-3/
LOCATION:Glencoe\, Glencoe\, PH49 4HP\, United Kingdom
CATEGORIES:Winter
ATTACH;FMTTYPE=image/jpeg:https://thesummitisoptional.com/wp-content/uploads/East-Ridge-of-Beinn-aChaorainn-scaled.jpeg
END:VEVENT
BEGIN:VEVENT
DTSTART;TZID=Europe/London:20260209T080000
DTEND;TZID=Europe/London:20260213T170000
DTSTAMP:20260422T020159
CREATED:20251126T092840Z
LAST-MODIFIED:20251126T092840Z
UID:10001034-1770624000-1771002000@thesummitisoptional.com
SUMMARY:Scottish Winter Mountaineering (Private Booking)
DESCRIPTION:
URL:https://thesummitisoptional.com/event/scottish-winter-mountaineering-private-booking-2/
LOCATION:Glencoe\, Glencoe\, PH49 4HP\, United Kingdom
CATEGORIES:Winter
ATTACH;FMTTYPE=image/jpeg:https://thesummitisoptional.com/wp-content/uploads/East-Ridge-of-Beinn-aChaorainn-scaled.jpeg
END:VEVENT
BEGIN:VEVENT
DTSTART;TZID=Europe/London:20260226T080000
DTEND;TZID=Europe/London:20260228T170000
DTSTAMP:20260422T020159
CREATED:20251126T093758Z
LAST-MODIFIED:20251126T093758Z
UID:10001037-1772092800-1772298000@thesummitisoptional.com
SUMMARY:Winter Skills Course (Private Booking)
DESCRIPTION:
URL:https://thesummitisoptional.com/event/winter-skills-course-private-booking-5/
LOCATION:Aviemore\, PH22 1RB\, United Kingdom
ATTACH;FMTTYPE=image/jpeg:https://thesummitisoptional.com/wp-content/uploads/IMG_4920-scaled.jpeg
END:VEVENT
BEGIN:VEVENT
DTSTART;TZID=Europe/London:20260307T080000
DTEND;TZID=Europe/London:20260308T170000
DTSTAMP:20260422T020159
CREATED:20251126T093447Z
LAST-MODIFIED:20251126T093447Z
UID:10001036-1772870400-1772989200@thesummitisoptional.com
SUMMARY:Scottish Winter Mountaineering (Private Booking)
DESCRIPTION:
URL:https://thesummitisoptional.com/event/scottish-winter-mountaineering-private-booking/
LOCATION:Glencoe\, Glencoe\, PH49 4HP\, United Kingdom
CATEGORIES:Winter
ATTACH;FMTTYPE=image/jpeg:https://thesummitisoptional.com/wp-content/uploads/East-Ridge-of-Beinn-aChaorainn-scaled.jpeg
END:VEVENT
BEGIN:VEVENT
DTSTART;TZID=Europe/London:20260418T080000
DTEND;TZID=Europe/London:20260419T170000
DTSTAMP:20260422T020159
CREATED:20260207T104012Z
LAST-MODIFIED:20260207T104012Z
UID:10001043-1776499200-1776618000@thesummitisoptional.com
SUMMARY:Self-Rescue/Problem-Solving Course (Private Booking)
DESCRIPTION:
URL:https://thesummitisoptional.com/event/self-rescue-problem-solving-course-private-booking/
LOCATION:Yorkshire Dales\, Horton in Ribblesdale
CATEGORIES:Summer
ATTACH;FMTTYPE=image/jpeg:https://thesummitisoptional.com/wp-content/uploads/Rock-Climbing-Self-rescue-e1540380459554.jpg
END:VEVENT
BEGIN:VEVENT
DTSTART;TZID=Europe/London:20260425T080000
DTEND;TZID=Europe/London:20260427T170000
DTSTAMP:20260422T020159
CREATED:20260207T103702Z
LAST-MODIFIED:20260207T103702Z
UID:10001042-1777104000-1777309200@thesummitisoptional.com
SUMMARY:Learn-to-Lead Course (Private Booking)
DESCRIPTION:
URL:https://thesummitisoptional.com/event/learn-to-lead-course-private-booking/
LOCATION:Snowdonia\, Capel Curig\, United Kingdom
CATEGORIES:Summer
ATTACH;FMTTYPE=image/jpeg:https://thesummitisoptional.com/wp-content/uploads/Flying-Buttress-the-groove-and-flake.jpeg
END:VEVENT
BEGIN:VEVENT
DTSTART;TZID=Europe/London:20260619T080000
DTEND;TZID=Europe/London:20260619T170000
DTSTAMP:20260422T020159
CREATED:20260111T094746Z
LAST-MODIFIED:20260111T094746Z
UID:10001041-1781856000-1781888400@thesummitisoptional.com
SUMMARY:Yr Wyddfa via Crib Goch (Private Booking)
DESCRIPTION:
URL:https://thesummitisoptional.com/event/yr-wyddfa-via-crib-goch-private-booking/
LOCATION:Snowdonia\, Capel Curig\, United Kingdom
CATEGORIES:Summer
ATTACH;FMTTYPE=image/jpeg:https://thesummitisoptional.com/wp-content/uploads/IMG_3589-scaled.jpeg
END:VEVENT
END:VCALENDAR